BEGIN:VCALENDAR
VERSION:2.0
PRODID:-//Moorhus - NABU Besucherzentrum - ECPv6.11.2//NONSGML v1.0//EN
CALSCALE:GREGORIAN
METHOD:PUBLISH
X-WR-CALNAME:Moorhus - NABU Besucherzentrum
X-ORIGINAL-URL:https://www.moorhus.eu
X-WR-CALDESC:Veranstaltungen für Moorhus - NABU Besucherzentrum
REFRESH-INTERVAL;VALUE=DURATION:PT1H
X-Robots-Tag:noindex
X-PUBLISHED-TTL:PT1H
BEGIN:VTIMEZONE
TZID:Europe/Berlin
BEGIN:DAYLIGHT
TZOFFSETFROM:+0100
TZOFFSETTO:+0200
TZNAME:CEST
DTSTART:20260329T010000
END:DAYLIGHT
BEGIN:STANDARD
TZOFFSETFROM:+0200
TZOFFSETTO:+0100
TZNAME:CET
DTSTART:20261025T010000
END:STANDARD
END:VTIMEZONE
BEGIN:VEVENT
DTSTART;VALUE=DATE:20260101
DTEND;VALUE=DATE:20270101
DTSTAMP:20260420T211609
CREATED:20251216T092257Z
LAST-MODIFIED:20260330T085956Z
UID:23227-1767225600-1798761599@www.moorhus.eu
SUMMARY:Eichhörnchen beobachten und melden
DESCRIPTION:-Bild von Pixabay- \nDer NABU macht gemeinsam mit dem Leibniz-IZW und NABU|naturgucker ein Projekt\, um Fragen rund um Eichhörnchen zu beantworten. Dabei können Sie mitwirken: Melden Sie Eichhörnchen\, die Sie entdecken\, und das gerne auch über einen längeren Zeitraum.
URL:https://www.moorhus.eu/veranstaltung/eichhoernchen-beobachten-und-melden/
CATEGORIES:Für alle Interessierten
ATTACH;FMTTYPE=image/jpeg:https://www.moorhus.eu/wp-content/uploads/sites/3/2025/12/Eichhoernchenbild-Matthiaskost-Pixabay.jpg
END:VEVENT
BEGIN:VEVENT
DTSTART;TZID=Europe/Berlin:20260420T193000
DTEND;TZID=Europe/Berlin:20260420T193000
DTSTAMP:20260420T211609
CREATED:20251217T080646Z
LAST-MODIFIED:20260330T085812Z
UID:23310-1776713400-1776713400@www.moorhus.eu
SUMMARY:Unsere Eulen
DESCRIPTION:-Bildquelle: Ulrich Köller- \nSeit Jahrzehnten widmet Gerhard Neuhaus seine Freizeit den Eulen und Greifvögeln. Kein anderer im Kreisgebiet kennt sich mit diesen Tiergruppen aus wie er. Hierbei haben es ihm die Steinkäuze und Schleiereulen besonders angetan. In diesem Vortrag wird er Einblicke in den Schutz\, die Bestandsentwicklung und die Lebensweise unserer Eulenarten\, wozu außerdem noch Uhu\, Waldkauz und Waldohreule gehören\, geben. Angereichert wird der Vortrag durch die professionellen Fotos von Jürgen Heinrich\, einem Naturfotografen aus Minden. \nDer Eintritt kostet 5 € und die Anmeldung erfolgt bitte telefonisch unter 05741 2409505 oder per E-Mail an kontakt@moorhus.eu.
URL:https://www.moorhus.eu/veranstaltung/unsere-eulen/
CATEGORIES:Angebote für Erwachsene,Familien mit Kinder ab 12,Für alle Interessierten
ATTACH;FMTTYPE=image/jpeg:https://www.moorhus.eu/wp-content/uploads/sites/3/2025/12/Schleiereule©Juergen-Heinrich.jpg
END:VEVENT
END:VCALENDAR