BEGIN:VCALENDAR
VERSION:2.0
PRODID:-//Moorhus - NABU Besucherzentrum - ECPv6.11.2//NONSGML v1.0//EN
CALSCALE:GREGORIAN
METHOD:PUBLISH
X-WR-CALNAME:Moorhus - NABU Besucherzentrum
X-ORIGINAL-URL:https://www.moorhus.eu
X-WR-CALDESC:Veranstaltungen für Moorhus - NABU Besucherzentrum
REFRESH-INTERVAL;VALUE=DURATION:PT1H
X-Robots-Tag:noindex
X-PUBLISHED-TTL:PT1H
BEGIN:VTIMEZONE
TZID:Europe/Berlin
BEGIN:DAYLIGHT
TZOFFSETFROM:+0100
TZOFFSETTO:+0200
TZNAME:CEST
DTSTART:20260329T010000
END:DAYLIGHT
BEGIN:STANDARD
TZOFFSETFROM:+0200
TZOFFSETTO:+0100
TZNAME:CET
DTSTART:20261025T010000
END:STANDARD
END:VTIMEZONE
BEGIN:VEVENT
DTSTART;TZID=Europe/Berlin:20260607T100000
DTEND;TZID=Europe/Berlin:20260607T120000
DTSTAMP:20260421T165838
CREATED:20251217T095511Z
LAST-MODIFIED:20260330T092100Z
UID:23348-1780826400-1780833600@www.moorhus.eu
SUMMARY:Was krabbelt\, fliegt und summt am Moorhus? Seminar zur Insektenbestimmung
DESCRIPTION:-Bildquelle: L. Beckmann- \nNach einer Einführung in den Bauplan und die Systematik der Insekten wird im Umfeld des Moorhuses beobachtet und bestimmt\, was dort krabbelt\, fliegt und summt. Bei Interesse können im Anschluss noch weitere Bestimmungsübungen mit dem Binokular gemacht werden.\nKeine Vorkenntnis erforderlich\, für Einsteiger geeignet.\nMit Wolfgang Brunkhorst. \nTeilnahmegebühr: 10 €. Anmeldung telefonisch erwünscht un-ter 05741 2409505 oder per E-Mail an kontakt@moorhus.eu.
URL:https://www.moorhus.eu/veranstaltung/was-krabbelt-fliegt-und-summt-am-moorhus-seminar-zur-insektenbestimmung-3/
LOCATION:Moorhus\, Frotheimerstraße 57A
CATEGORIES:Für alle Interessierten,Seminar
ATTACH;FMTTYPE=image/jpeg:https://www.moorhus.eu/wp-content/uploads/sites/3/2025/12/2017-06-15_08-11-28_004_GTM_Leif-Beckmann-1.jpg
END:VEVENT
END:VCALENDAR