BEGIN:VCALENDAR
VERSION:2.0
PRODID:-//Moorhus - NABU Besucherzentrum - ECPv6.11.2//NONSGML v1.0//EN
CALSCALE:GREGORIAN
METHOD:PUBLISH
X-ORIGINAL-URL:https://www.moorhus.eu
X-WR-CALDESC:Veranstaltungen für Moorhus - NABU Besucherzentrum
REFRESH-INTERVAL;VALUE=DURATION:PT1H
X-Robots-Tag:noindex
X-PUBLISHED-TTL:PT1H
BEGIN:VTIMEZONE
TZID:Europe/Berlin
BEGIN:DAYLIGHT
TZOFFSETFROM:+0100
TZOFFSETTO:+0200
TZNAME:CEST
DTSTART:20260329T010000
END:DAYLIGHT
BEGIN:STANDARD
TZOFFSETFROM:+0200
TZOFFSETTO:+0100
TZNAME:CET
DTSTART:20261025T010000
END:STANDARD
END:VTIMEZONE
BEGIN:VEVENT
DTSTART;TZID=Europe/Berlin:20260228T093000
DTEND;TZID=Europe/Berlin:20260228T153000
DTSTAMP:20260421T223444
CREATED:20251216T100734Z
LAST-MODIFIED:20260203T104751Z
UID:23241-1772271000-1772292600@www.moorhus.eu
SUMMARY:Alte Apfelbäume richtig schneiden – Obstbaumschnitt in der Praxis
DESCRIPTION:-Bild von Pixabay- \nWie schneidet man einen (alten) Obstbaum richtig? Welche Schnittziele ergeben sich aus dem Zustand des Baumes – und wie setzt man diesen fachgerecht um? Diese Veranstaltung richtet sich an alle\, die junge oder alte Bäume im Garten oder auf der Streuobstwiese haben und erlernen möchten\, diese gesund und vital zu pflegen und zu erhalten.\nNach einer theoretischen Einführung in den Baumaufbau gehen wir direkt in die Praxis über: an jungen und alten Obstbäumen vor Ort wird das richtige Vorgehen gemeinsam besprochen und umgesetzt. Dabei erlernen die Teilnehmer:innen\, den Gesundheitszustand des Baumes einzuschätzen\, die passenden Schnittwerkzeuge kennen zu lernen und den Pflege-Verjüngungsschnitt durchzuführen. Ziel ist es\, das erlernte Fachwissen später in die Praxis an eigenen Bäumen daheim umzusetzen.\nLeitung: Der Kurs wird durchgeführt von Herrn Rainer Schäfers\, Baumwart und langjähriger Vorsitzender des Kreisverbandes München für Gartenkultur und Landespflege e.V.\nOrt: Der Kurs findet bei Familie Clausen\, Blasheimer Str. 44\, in Lübbecke-Stockhausen (ehem. Hof Stallmann) statt.\nTeilnahmegebühr: 10 € (inkl. Getränken und Snack)\nAnmeldung: Per E-Mail an vera-clausen@web.de\nOrganisatorisches: Eine Mittagspause ist eingeplant. Fachblätter liegen bereit\, Broschüren und Fachhefte werden z.T. gegen Unkostenbeitrag angeboten. Da der Kurs größtenteils im Freien stattfindet und auch bei „normalem“ Schlechtwetter wie Regen oder Kälte durchgeführt wird\, ist wetterangepasste Kleidung und Schuhwerk empfehlenswert.                                   Bei extremen Wetterbedingungen (Sturm\, Starkregen\, Frost) behalten wir uns vor\, den Termin kurzfristig zu verschieben. In diesem Fall informieren wir alle angemeldeten Teilnehmer:innen rechtzeitig.
URL:https://www.moorhus.eu/veranstaltung/alte-apfelbaeume-richtig-schneiden-obstbaum-schnitt-in-der-praxis/
CATEGORIES:Für alle Interessierten
ATTACH;FMTTYPE=image/jpeg:https://www.moorhus.eu/wp-content/uploads/sites/3/2025/12/Apfelbluetenbild-von-congerdesign-Pixabay.jpg
END:VEVENT
END:VCALENDAR