BEGIN:VCALENDAR
VERSION:2.0
PRODID:-//Moorhus - NABU Besucherzentrum - ECPv6.11.2//NONSGML v1.0//EN
CALSCALE:GREGORIAN
METHOD:PUBLISH
X-WR-CALNAME:Moorhus - NABU Besucherzentrum
X-ORIGINAL-URL:https://www.moorhus.eu
X-WR-CALDESC:Veranstaltungen für Moorhus - NABU Besucherzentrum
REFRESH-INTERVAL;VALUE=DURATION:PT1H
X-Robots-Tag:noindex
X-PUBLISHED-TTL:PT1H
BEGIN:VTIMEZONE
TZID:Europe/Berlin
BEGIN:DAYLIGHT
TZOFFSETFROM:+0100
TZOFFSETTO:+0200
TZNAME:CEST
DTSTART:20260329T010000
END:DAYLIGHT
BEGIN:STANDARD
TZOFFSETFROM:+0200
TZOFFSETTO:+0100
TZNAME:CET
DTSTART:20261025T010000
END:STANDARD
END:VTIMEZONE
BEGIN:VEVENT
DTSTART;TZID=Europe/Berlin:20260506T170000
DTEND;TZID=Europe/Berlin:20260506T193000
DTSTAMP:20260420T225623
CREATED:20251217T091837Z
LAST-MODIFIED:20260330T091940Z
UID:23328-1778086800-1778095800@www.moorhus.eu
SUMMARY:Radtour ums Moor zu vergessenen Orten - eine Führung mit dem Fahrrad zu historischen Punkten im Naturschutzgebiet
DESCRIPTION:-Bildquelle: Pixabay- \nSie radeln auf befestigen Wegen um bzw. durch das Große Torfmoor. Dabei lernen Sie die Moorlandschaft aus einer vergangenen Zeit kennen. Der Radguide erzählt Anekdoten über den alten Schäfer Westerfeld\, löst das Rätsel über den Wüstenexpress und klärt auf\, wer für die Bademoorteiche verantwortlich war.\nDie Streckenlänge beträgt ca. 12 km. Bitte bringen Sie ihr eigenes Rad mit.\nMit Rainer Eschedor\, zertifizierter Natur- und Landschaftsführer. \nAnmeldung bitte telefonisch unter 05741 2409505 oder per E-Mail an kontakt@moorhus.eu. Die Teilnahmegebühr von 7 € für Erwachsene bzw. 3\,50 € für Kinder und NABU-Mitglieder bitte in bar vor Ort entrichten.
URL:https://www.moorhus.eu/veranstaltung/radtour-ums-moor-zu-vergessenen-orten-eine-fuehrung-mit-dem-fahrrad-zu-historischen-punkten-im-naturschutzgebiet-4/
LOCATION:Moorhus\, Frotheimerstraße 57A
CATEGORIES:Angebote für Erwachsene,Für alle Interessierten,Moorführungen
ATTACH;FMTTYPE=image/png:https://www.moorhus.eu/wp-content/uploads/sites/3/2025/12/stork-3438129_1280.png
END:VEVENT
END:VCALENDAR