BEGIN:VCALENDAR
VERSION:2.0
PRODID:-//Moorhus - NABU Besucherzentrum - ECPv6.11.2//NONSGML v1.0//EN
CALSCALE:GREGORIAN
METHOD:PUBLISH
X-ORIGINAL-URL:https://www.moorhus.eu
X-WR-CALDESC:Veranstaltungen für Moorhus - NABU Besucherzentrum
REFRESH-INTERVAL;VALUE=DURATION:PT1H
X-Robots-Tag:noindex
X-PUBLISHED-TTL:PT1H
BEGIN:VTIMEZONE
TZID:Europe/Berlin
BEGIN:DAYLIGHT
TZOFFSETFROM:+0100
TZOFFSETTO:+0200
TZNAME:CEST
DTSTART:20260329T010000
END:DAYLIGHT
BEGIN:STANDARD
TZOFFSETFROM:+0200
TZOFFSETTO:+0100
TZNAME:CET
DTSTART:20261025T010000
END:STANDARD
END:VTIMEZONE
BEGIN:VEVENT
DTSTART;TZID=Europe/Berlin:20260617T150000
DTEND;TZID=Europe/Berlin:20260617T183000
DTSTAMP:20260421T003614
CREATED:20251217T100017Z
LAST-MODIFIED:20260330T092142Z
UID:23352-1781708400-1781721000@www.moorhus.eu
SUMMARY:Wer klappert auf dem Horst? – Radtour ums Moor zu den Störchen
DESCRIPTION:-Bildquelle: Pixabay- \nEntlang der Bäche Bastau und Flöthe\, die das Große Torfmoor und die Bastauwiesen zwischen Lübbecke und Minden durchfließen\, brüten im Frühjahr inzwischen zahlreiche Weißstörche. Während der ca. 25 km langen Tour fahren wir einige Horste an. Sie können die Störche beim Brüten/Aufzucht und der Nahrungssuche beobachten und erhalten Informationen über ihre Lebensweise. Bitte bringen Sie ihr eigenes Rad mit.\nMit Rainer Eschedor\, zertifizierter Natur- und Landschaftsführer. \nAnmeldung bitte telefonisch unter 05741 2409505 oder per E-Mail an kontakt@moorhus.eu. Die Teilnahmegebühr von 7 € für Erwachsene bzw. 3\,50 € für Kinder und NABU-Mitglieder bitte in bar vor Ort entrichten.
URL:https://www.moorhus.eu/veranstaltung/wer-klappert-auf-dem-horst-radtour-ums-moor-zu-den-stoerchen-4/
LOCATION:Großes Torfmoor\, P3\, Moorbadstraße 2\, Lübbecke\, 32312
CATEGORIES:Angebote für Erwachsene,Für alle Interessierten
ATTACH;FMTTYPE=image/png:https://www.moorhus.eu/wp-content/uploads/sites/3/2025/12/storks-2681642_1280Alexa-auf-Pixabay.png
END:VEVENT
END:VCALENDAR