BEGIN:VCALENDAR
VERSION:2.0
PRODID:-//Moorhus - NABU Besucherzentrum - ECPv6.11.2//NONSGML v1.0//EN
CALSCALE:GREGORIAN
METHOD:PUBLISH
X-ORIGINAL-URL:https://www.moorhus.eu
X-WR-CALDESC:Veranstaltungen für Moorhus - NABU Besucherzentrum
REFRESH-INTERVAL;VALUE=DURATION:PT1H
X-Robots-Tag:noindex
X-PUBLISHED-TTL:PT1H
BEGIN:VTIMEZONE
TZID:Europe/Berlin
BEGIN:DAYLIGHT
TZOFFSETFROM:+0100
TZOFFSETTO:+0200
TZNAME:CEST
DTSTART:20260329T010000
END:DAYLIGHT
BEGIN:STANDARD
TZOFFSETFROM:+0200
TZOFFSETTO:+0100
TZNAME:CET
DTSTART:20261025T010000
END:STANDARD
END:VTIMEZONE
BEGIN:VEVENT
DTSTART;VALUE=DATE:20260508
DTEND;VALUE=DATE:20260511
DTSTAMP:20260421T005636
CREATED:20251217T090455Z
LAST-MODIFIED:20251217T090455Z
UID:23324-1778198400-1778457599@www.moorhus.eu
SUMMARY:Stunde der Gartenvögel
DESCRIPTION:-Bildquelle: Pixabay- \nVögel in der Nähe beobachten\, an einer bundesweiten Aktion teilnehmen und dabei tolle Preise gewinnen – all das vereint die „Stunde der Gartenvögel“. Jedes Jahr am zweiten Maiwochenende sind alle Naturliebhaber*innen aufgerufen\, Vögel zu notieren und zu melden. Interessierte können von zu Hause aus teilnehmen. Weitere Informationen und eine Zählhilfe zum Herunterladen finden Sie online unter: www.nabu.de
URL:https://www.moorhus.eu/veranstaltung/stunde-der-gartenvoegel/
CATEGORIES:Für alle Interessierten
ATTACH;FMTTYPE=image/jpeg:https://www.moorhus.eu/wp-content/uploads/sites/3/2025/12/Vogelbild-JacekBen-Pixabay.jpg
END:VEVENT
END:VCALENDAR